BEGIN:VCALENDAR
VERSION:2.0
PRODID:-//Center for Process Studies - ECPv6.15.20//NONSGML v1.0//EN
CALSCALE:GREGORIAN
METHOD:PUBLISH
X-WR-CALNAME:Center for Process Studies
X-ORIGINAL-URL:https://ctr4process.org
X-WR-CALDESC:Events for Center for Process Studies
REFRESH-INTERVAL;VALUE=DURATION:PT1H
X-Robots-Tag:noindex
X-PUBLISHED-TTL:PT1H
BEGIN:VTIMEZONE
TZID:America/Los_Angeles
BEGIN:DAYLIGHT
TZOFFSETFROM:-0800
TZOFFSETTO:-0700
TZNAME:PDT
DTSTART:20250309T100000
END:DAYLIGHT
BEGIN:STANDARD
TZOFFSETFROM:-0700
TZOFFSETTO:-0800
TZNAME:PST
DTSTART:20251102T090000
END:STANDARD
BEGIN:DAYLIGHT
TZOFFSETFROM:-0800
TZOFFSETTO:-0700
TZNAME:PDT
DTSTART:20260308T100000
END:DAYLIGHT
BEGIN:STANDARD
TZOFFSETFROM:-0700
TZOFFSETTO:-0800
TZNAME:PST
DTSTART:20261101T090000
END:STANDARD
BEGIN:DAYLIGHT
TZOFFSETFROM:-0800
TZOFFSETTO:-0700
TZNAME:PDT
DTSTART:20270314T100000
END:DAYLIGHT
BEGIN:STANDARD
TZOFFSETFROM:-0700
TZOFFSETTO:-0800
TZNAME:PST
DTSTART:20271107T090000
END:STANDARD
END:VTIMEZONE
BEGIN:VEVENT
DTSTART;TZID=America/Los_Angeles:20260428T100000
DTEND;TZID=America/Los_Angeles:20260428T120000
DTSTAMP:20260423T062415
CREATED:20260422T194403Z
LAST-MODIFIED:20260423T132203Z
UID:18810-1777370400-1777377600@ctr4process.org
SUMMARY:The Depths of the Sacred: How Process Mediates between ‘Believers’ and ‘Nonbelievers’ | Philip Clayton
DESCRIPTION:
URL:https://ctr4process.org/event/process-explorations-2026-04-28/
CATEGORIES:Discussion,Presentation
ATTACH;FMTTYPE=image/png:https://ctr4process.org/wp-content/uploads/2026/04/Phillip-Clayton-The-Depths-of-the-Sacred-How-Process-Mediates-between-‘Believers-and-‘Nonbelievers-Header.png
END:VEVENT
END:VCALENDAR